BEGIN:VCALENDAR
PRODID:-//eluceo/ical//2.0/EN
VERSION:2.0
CALSCALE:GREGORIAN
BEGIN:VEVENT
UID:event-866
DTSTAMP:20260423T102739Z
SUMMARY:Cedo's Halloween Party
DESCRIPTION:Dear Cedo Members\, As the nights grow longer and shadows creep
  in\, it can only mean one thing—our spooktacular Halloween party is jus
 t around the corner!  Put on your most horrifying outfit and get ready to
  impress the spirits of the night\, because the best costume wins a fabulo
 us prize!  Are you ready to get spooky? The party will take place at club
  Central and the doors are open from 22:00 until 23:30 so make sure to be 
 on time! The party is free for all our members and only €5\,- for extern
 als. We can’t wait to celebrate with you!  Haunting regards\, The Party
 Com
DTSTART:20241107T210000Z
DTEND:20241108T010000Z
LOCATION:Club Centraal
END:VEVENT
BEGIN:VTIMEZONE
TZID:UTC
BEGIN:STANDARD
DTSTART:20241107T210000
TZNAME:UTC
TZOFFSETTO:+0000
TZOFFSETFROM:+0000
END:STANDARD
END:VTIMEZONE
END:VCALENDAR
