BEGIN:VCALENDAR
PRODID:-//eluceo/ical//2.0/EN
VERSION:2.0
CALSCALE:GREGORIAN
BEGIN:VEVENT
UID:event-793
DTSTAMP:20260424T155845Z
SUMMARY:Cantus
DESCRIPTION:Dear Cedo members\, Get ready for the most ‘gezellig’ event
  of the year! Because the highly anticipated cantus is almost here! This D
 utch student tradition has a night full of singing\, lots of beer (or wate
 r) and most importantly punishments by our mystery guests called the presi
 dium. They are three preceding Board members that will make sure you sing 
 your head off. If you have anyone in particular who you want to punish\, m
 ake sure to send us a direct message or email at spaccom@cedonulli.nl. And
  don’t forget to set your alarms on Monday the 8th of April at 07:59 bec
 ause the registrations will open at 08:00 sharp! This event is infamously 
 popular\, so you don’t want to miss out on a ticket. The ticket price in
 cludes an UNLIMITED supply of beer (or water) for the entire event and a n
 ight you won’t (or will) forget. This event is one you really don’t wa
 nt to miss so make sure to register on Monday the 8th of April. We can’t
  wait to sing with you! Lots of love\, The Sports and Activities Committee
DTSTART:20240508T170000Z
DTEND:20240508T210000Z
LOCATION:RSRC 
END:VEVENT
BEGIN:VTIMEZONE
TZID:UTC
BEGIN:STANDARD
DTSTART:20240508T170000
TZNAME:UTC
TZOFFSETTO:+0000
TZOFFSETFROM:+0000
END:STANDARD
END:VTIMEZONE
END:VCALENDAR
