BEGIN:VCALENDAR
PRODID:-//eluceo/ical//2.0/EN
VERSION:2.0
CALSCALE:GREGORIAN
BEGIN:VEVENT
UID:event-1085
DTSTAMP:20260423T143652Z
SUMMARY:Paint and Pour
DESCRIPTION:Are you ready to Paint &amp\; Pour? We are happy to announce th
 is next up and coming event. Let your creative juices flow and enjoy a nic
 e evening at de Plas with your friends. A combination between a Sip &amp\;
  Paint and a Cocktail Workshop? Who doesn't want that?! Hurry! Because we 
 have limited spots! Date: 13/05/2026 Location: Kralingse Plas Time: 16:00-
 19:00 (Mocktails are also available) Lots of love\, Try-Out Committee
DTSTART:20260513T140000Z
DTEND:20260513T170000Z
LOCATION:Kralingse Plas
END:VEVENT
BEGIN:VTIMEZONE
TZID:UTC
BEGIN:STANDARD
DTSTART:20260513T140000
TZNAME:UTC
TZOFFSETTO:+0000
TZOFFSETFROM:+0000
END:STANDARD
END:VTIMEZONE
END:VCALENDAR
