BEGIN:VCALENDAR
PRODID:-//eluceo/ical//2.0/EN
VERSION:2.0
CALSCALE:GREGORIAN
BEGIN:VEVENT
UID:event-1084
DTSTAMP:20260423T144743Z
SUMMARY:Monthly Drink #9 - Orange Madness 
DESCRIPTION:Did you just put your orange outfit back in the closet after Ki
 ng's Day and Liberation Day?  Think again because you’ll need it for th
 e coziest\, most nostalgically Dutch borrel of the year: “Orange Madness
 ”. Step into a setting that blends classic brown bar vibes with the lege
 ndary Dutch “circle birthday” tradition. Picture this: plates filled w
 ith cheese cubes and sausages decorated with tiny Dutch flags\, a drink i
 n hand\, and a room full of people loudly singing along to iconic Dutch h
 its. It’s all about that old-school gezelligheid. Dress in orange\, red\
 , white\, or blue and show up in full Dutch glory! Bring your best vibes\,
  your loudest singing voice and get ready for a night that feels like one 
 big\, chaotic\, and very Dutch birthday party!
DTSTART:20260512T183000Z
DTEND:20260512T213000Z
LOCATION:Cafe Stalles
END:VEVENT
BEGIN:VTIMEZONE
TZID:UTC
BEGIN:STANDARD
DTSTART:20260512T183000
TZNAME:UTC
TZOFFSETTO:+0000
TZOFFSETFROM:+0000
END:STANDARD
END:VTIMEZONE
END:VCALENDAR
