BEGIN:VCALENDAR
PRODID:-//eluceo/ical//2.0/EN
VERSION:2.0
CALSCALE:GREGORIAN
BEGIN:VEVENT
UID:event-1038
DTSTAMP:20260423T103215Z
SUMMARY:Symposium: Love & Porn
DESCRIPTION:Join us for an engaging psychology symposium exploring the two 
 topics Love and Porn.  This symposium is bringing together two powerful t
 alks. Dr. Freddy Van Der Veen will uncover the psychology of love and Cele
 ste Sanfilippo will dive into online harm and the impact of pornography. H
 ear perspectives that push beyond headlines and into deeper psychological 
 understanding. Location: Langeveld 0.10 Date: February 11 Time: 19:00 – 
 21:00 Love\, The Pedagogical Sciences and Psychology Committee
DTSTART:20260211T180000Z
DTEND:20260211T200000Z
LOCATION:Langeveld 0.10
END:VEVENT
BEGIN:VTIMEZONE
TZID:UTC
BEGIN:STANDARD
DTSTART:20260211T180000
TZNAME:UTC
TZOFFSETTO:+0000
TZOFFSETFROM:+0000
END:STANDARD
END:VTIMEZONE
END:VCALENDAR
